BEGIN:VCALENDAR
VERSION:2.0
PRODID:-//wp-events-plugin.com//7.2.3.1//EN
BEGIN:VEVENT
UID:5817@nordostseemagazine.de
DTSTART;TZID=Europe/Berlin:20260509T200000
DTEND;TZID=Europe/Berlin:20260509T220000
DTSTAMP:20260423T174127Z
URL:https://www.nordostseemagazine.de/events/zoom-eine-komoedie-in-vier-fe
 nstern/
SUMMARY:Zoom! - Eine Komödie in vier Fenstern
DESCRIPTION:\n\n"Zoom! - Eine Komödie in vier Fenstern“ stammt aus der F
 eder des Kabarettisten und Moderators Christian Ehring\, der durch die Sat
 iresendung „Extra3“ bekannt wurde. Vier Geschwister\, eine Videokonfer
 enz und ein heikler Anlass: Ein Geschenk zur Goldenen Hochzeit der Eltern 
 soll her. Was harmlos beginnt\, entwickelt sich zu einem rasanten Schlagab
 tausch über Werte\, Weltbilder und Wahn. Denn jeder hat andere Vorstellun
 gen davon\, worüber sich die Eltern freuen würden. Die Suche nach einem 
 Präsent wird zu einer gnadenlos komischen Abrechnung mit Kindheit\, Chara
 kteren und Lebensentwürfen – und am Ende finden sie doch wieder zueinan
 der. Eine pointierte Gesellschaftssatire über Denkblasen und Familienband
 e\, zu sehen am Samstag\, den 09. Mai 2026.\n\nFoto: Say Cheese Kultur gGm
 bH
ATTACH;FMTTYPE=image/jpeg:https://www.nordostseemagazine.de/wp-content/upl
 oads/2026/04/81930c028e78cc24f7b4f5b6140abb0f078d4c26.jpeg
CATEGORIES:Theater-Klassik
LOCATION:Stadthalle Neumünster\, Kleinflecken 1\, Neumünster\, Schleswig-
 Holstein\, 24534\, Deutschland
X-APPLE-STRUCTURED-LOCATION;VALUE=URI;X-ADDRESS=Kleinflecken 1\, Neumünste
 r\, Schleswig-Holstein\, 24534\, Deutschland;X-APPLE-RADIUS=100;X-TITLE=St
 adthalle Neumünster:geo:0,0
END:VEVENT
BEGIN:VTIMEZONE
TZID:Europe/Berlin
X-LIC-LOCATION:Europe/Berlin
BEGIN:DAYLIGHT
DTSTART:20260329T030000
TZOFFSETFROM:+0100
TZOFFSETTO:+0200
TZNAME:CEST
END:DAYLIGHT
END:VTIMEZONE
END:VCALENDAR