BEGIN:VCALENDAR
VERSION:2.0
PRODID:-//wp-events-plugin.com//7.2.3.1//EN
BEGIN:VEVENT
UID:5819@nordostseemagazine.de
DTSTART;TZID=Europe/Berlin:20260522T200000
DTEND;TZID=Europe/Berlin:20260522T221500
DTSTAMP:20260423T174647Z
URL:https://www.nordostseemagazine.de/events/vom-fischer-und-seiner-frau/
SUMMARY:Vom Fischer und seiner Frau
DESCRIPTION:\nEin Ballett nach dem Märchen "Vom Fischer und seiner Frau" i
 st am Freitag\, 22. Mai 2026 zu sehen Ein Fischer fängt einen sprechenden
  Butt\, der eigentlich ein verzauberter Prinz ist und ihm Wünsche erfüll
 en kann. Doch der Fischer lässt ihn frei\, ohne einen Wunsch zu äußern.
  Seine Frau Ilsebill kann das nicht fassen und schickt ihn zurück: Ein gr
 ößeres Haus soll her. Der Butt liefert. Doch dabei bleibt es nicht. Ilse
 bill verlangt immer mehr: Erst will sie Fürstin sein\, dann Königin und 
 schließlich Päpstin. Mit jeder neuen Forderung wird das Meer bedrohliche
 r und der Himmel dunkler. Der Fischer ahnt\, dass das nicht gut enden kann
 . Philipp Otto Runge\, ein norddeutscher Maler\, schrieb das Märchen ursp
 rünglich auf Plattdeutsch\, bevor er es den Brüdern Grimm übergab. „V
 om Fischer und seiner Frau” ist eine zeitlose Parabel über Maßlosigkei
 t und menschliche Gier. Doch während Märchen meist erzählt werden\, ent
 falten sie in getanzter Form eine ganz eigene Magie.\nOhne Worte\, allein 
 durch Bewegung und Musik\, bringt das Landestheater Detmold die berühmte 
 Geschichte familiengeeignet auf die Bühne.\n\nFoto: Marc Lontcek
ATTACH;FMTTYPE=image/jpeg:https://www.nordostseemagazine.de/wp-content/upl
 oads/2026/04/22.05.26-Vom-Fischer-und-seiner-Frau_c_Marc-Lontzek_1-scaled-
 e1776966317357.jpg
CATEGORIES:Theater-Klassik
LOCATION:Stadthalle Neumünster\, Kleinflecken 1\, Neumünster\, Schleswig-
 Holstein\, 24534\, Deutschland
X-APPLE-STRUCTURED-LOCATION;VALUE=URI;X-ADDRESS=Kleinflecken 1\, Neumünste
 r\, Schleswig-Holstein\, 24534\, Deutschland;X-APPLE-RADIUS=100;X-TITLE=St
 adthalle Neumünster:geo:0,0
END:VEVENT
BEGIN:VTIMEZONE
TZID:Europe/Berlin
X-LIC-LOCATION:Europe/Berlin
BEGIN:DAYLIGHT
DTSTART:20260329T030000
TZOFFSETFROM:+0100
TZOFFSETTO:+0200
TZNAME:CEST
END:DAYLIGHT
END:VTIMEZONE
END:VCALENDAR