BEGIN:VCALENDAR
VERSION:2.0
PRODID:-//wp-events-plugin.com//7.2.3.1//EN
BEGIN:VEVENT
UID:5803@nordostseemagazine.de
DTSTART;TZID=Europe/Berlin:20260424T190000
DTEND;TZID=Europe/Berlin:20260424T220000
DTSTAMP:20260413T133603Z
URL:https://www.nordostseemagazine.de/events/thomas-godoj-kreuzwege-2026/
SUMMARY:Thomas Godoj Kreuzwege 2026
DESCRIPTION:\n\nTHOMAS GODOJ GEHT 2026 AUF TOUR – NEUES ALBUM\, NEUE ENER
 GIE\n\nNach dem erfolgreichen Crowdfunding für sein zehntes Studioalbum g
 eht Thomas Godoj 2026 wieder auf Tour – mit neuen Songs im Gepäck und d
 er ungebremsten Energie\, für die seine Fans ihn lieben. Die Tour wird di
 e kraftvolle Weiterentwicklung eines Künstlers zeigen\, der seit Jahren k
 onsequent seinen eigenen Weg geht – fernab vom Mainstream\, aber ganz na
 h an seinem Publikum.\n\nDass Thomas Godoj immer noch da ist\, überrascht
  eigentlich nur diejenigen\, die ihn nie wirklich gehört haben. Seit sein
 em Sieg bei DSDS im Jahr 2008 ist viel passiert – doch statt sich in Fer
 nsehshows und Schlagzeilen zu verlieren\, hat sich der charismatische Sän
 ger und Songwriter bewusst für die Musik und gegen den Boulevard entschie
 den. Sein Weg führte weg vom Hype\, hin zu ehrlicher Rockmusik mit Haltun
 g – und zu einer treuen Fangemeinde\, die über Jahre hinweg gewachsen i
 st und mittlerweile nicht nur Zuhörer\, sondern auch Unterstützer seiner
  Alben ist.\n\nMit einer einzigartigen Stimme spricht Godoj in seinen Song
 s auch Themen an\, die sonst oft ausgeklammert werden\, ohne Filter\, ohne
  Kompromisse. Sein Sound hat sich über die Jahre zu einer markanten Misch
 ung aus Alternative Rock\, Metal-Elementen und eingängigen Refrains entwi
 ckelt – kraftvoll\, kantig\, mitreißend.\n\nDas kommende Album\, das mi
 t Hilfe seiner Community erneut über ein Crowdfunding realisiert wird\, v
 erspricht eine besondere Verbindung aus atmosphärischer Tiefe und rauer R
 ock-Energie. Es zeigt einmal mehr: Thomas Godoj ist kein glattgebügeltes 
 Musikprojekt – er ist gelebte Haltung. Und seine Musik ist genau das –
  voller Kraft\, authentisch\, berührend.\n\nKREUZWEGE 2026 wird genau die
 se Energie auf die Bühne bringen – in elektrisierenden Rockshows mit vo
 ller Bandbesetzung ebenso wie in reduzierten Akustik-Sessions\, die eine a
 ndere\, intime Seite des Künstlers zeigen. Diese Gegensätze machen das B
 esondere seiner Live-Auftritte aus und lassen spüren\, warum er längst s
 einen festen Platz in der deutschen Musiklandschaft hat – und warum er d
 a auch hingehört.\n\nVVK Start: 01.06.2025 auf&nbsp\;www.thomasgodoj.de&n
 bsp\;und&nbsp\;www.eventim.de&nbsp\;
ATTACH;FMTTYPE=image/jpeg:https://www.nordostseemagazine.de/wp-content/upl
 oads/2026/04/kreuz-e1776087343376.jpg
CATEGORIES:Live-Musik
LOCATION:Riders Cafe\, Leinweberstr. 4\, Lübeck\, 23556\, Deutschland
GEO:53.8612;10.632090000000062
X-APPLE-STRUCTURED-LOCATION;VALUE=URI;X-ADDRESS=Leinweberstr. 4\, Lübeck\,
  23556\, Deutschland;X-APPLE-RADIUS=100;X-TITLE=Riders Cafe:geo:53.8612,10
 .632090000000062
END:VEVENT
BEGIN:VTIMEZONE
TZID:Europe/Berlin
X-LIC-LOCATION:Europe/Berlin
BEGIN:DAYLIGHT
DTSTART:20260329T030000
TZOFFSETFROM:+0100
TZOFFSETTO:+0200
TZNAME:CEST
END:DAYLIGHT
END:VTIMEZONE
END:VCALENDAR