BEGIN:VCALENDAR
VERSION:2.0
PRODID:-//wp-events-plugin.com//7.2.3.1//EN
BEGIN:VEVENT
UID:5798@nordostseemagazine.de
DTSTART;TZID=Europe/Berlin:20260415T200000
DTEND;TZID=Europe/Berlin:20260415T223000
DTSTAMP:20260413T132350Z
URL:https://www.nordostseemagazine.de/events/tamara-van-esch/
SUMMARY:Tamara van Esch
DESCRIPTION:[caption id="attachment_30021" align="alignnone" width="960"] F
 oto: Presse Tamara van Esch / Immen[/caption]\n\nTamara van Esch kreiert I
 ndie-Folk im Stil von This is the Kit und Mitski – intim\, traumhaft und
  auf sanfte Weise unkonventionell.\nMit zerbrechlichen\, aber manchmal auc
 h kritischen Texten reflektiert sie über alltägliche Dinge\, die plötzl
 ich außergewöhnlich erscheinen. Ihre Songs sind zart und poetisch und h
 üllen ehrliche Geschichten in warme\, einhüllende Instrumentalisierung.&
 nbsp\;\nImmen ist der Künstlername der in Utrecht lebenden Musikerin Clas
 ine Haringsma. Ihren friesischen Wurzeln treu bleibend\, singt sie sowohl 
 auf Englisch als auch auf Friesisch – wobei sie sich eher zum Letzteren 
 hingezogen fühlt. Auch wenn ihre Songs oft von Unsicherheiten und überw
 ältigenden Gefühlen handeln\, verleiht Haringsmas warme\, ätherische St
 imme den Songs ein Gefühl von Trost.
ATTACH;FMTTYPE=image/jpeg:https://www.nordostseemagazine.de/wp-content/upl
 oads/2026/04/artistpic_2826.jpg
CATEGORIES:Live-Musik
LOCATION:Tonfink\, Große Burgstraße 46\, Lübeck\, 23552\, Deutschland
GEO:53.871904;10.690018
X-APPLE-STRUCTURED-LOCATION;VALUE=URI;X-ADDRESS=Große Burgstraße 46\, Lü
 beck\, 23552\, Deutschland;X-APPLE-RADIUS=100;X-TITLE=Tonfink:geo:53.87190
 4,10.690018
END:VEVENT
BEGIN:VTIMEZONE
TZID:Europe/Berlin
X-LIC-LOCATION:Europe/Berlin
BEGIN:DAYLIGHT
DTSTART:20260329T030000
TZOFFSETFROM:+0100
TZOFFSETTO:+0200
TZNAME:CEST
END:DAYLIGHT
END:VTIMEZONE
END:VCALENDAR