BEGIN:VCALENDAR
VERSION:2.0
PRODID:-//wp-events-plugin.com//7.2.3.1//EN
BEGIN:VEVENT
UID:5812@nordostseemagazine.de
DTSTART;TZID=Europe/Berlin:20260427T193000
DTEND;TZID=Europe/Berlin:20260427T220000
DTSTAMP:20260420T175959Z
URL:https://www.nordostseemagazine.de/events/strom-wasser-annie-heger-tom-
 klose-martin-goldenbaum-festival-fuer-die-soziale-arbeit/
SUMMARY:Strom & Wasser\, Annie Heger\, Tom Klose\, Martin Goldenbaum Festiv
 al für die soziale Arbeit
DESCRIPTION:\n\nFestival für die soziale Arbeit\n\nHeinz Ratz\, Sänger un
 d Bassist von Strom &amp\; Wasser (Foto)\, kommt mit seinem zweiten Lauf g
 egen die soziale Kälte auf die Bühne. Lief er vor Jahren noch zu Gunsten
  von Wohnungslosen\, möchte er diesmal die Menschen und Einrichtungen in 
 das Bewusstsein der Bevölkerung bringen\, die sich unermüdlich bemühen\
 , gesellschaftliche und individuelle Not aufzufangen\, und in einer Zeit a
 llgemeiner gesellschaftlicher Verhärtung für ein friedvolles\, weltoffen
 es und solidarisches Miteinander stehen\, das Mut macht und Hoffnung\, in 
 einer ansonsten immer kriegerischer und konfliktreicher wirkenden Zeit. Bi
 s Ende des Jahres wird er mit vielen solidarischen Künstlerinnen und Kün
 stlern Konzerte in Hospizen\, Wohnungslosenheimen\, Frauenhäusern\, Einri
 chtungen für Menschen mit Behinderung etc. spielen – ein Statement für
  soziale Arbeit\, ehrenamtliches Engagement\, Demokratie und Frieden. Aben
 ds dann treten die Künstler*innen nochmals auf – in Lübeck am 27.04 ab
  19:30 Uhr im Riders Café.\n\nDie dargebotene Musik reicht von dem anarch
 opoetischen wilden Stilmix Strom &amp\; Wassers über die kabarettistische
  Schlagseite Annie Hegers bis zum raukehligen Rock-Liedermacher Martin Gol
 denbaum und der Poesie von Tom Klose.\n Gegen Spende 
ATTACH;FMTTYPE=image/jpeg:https://www.nordostseemagazine.de/wp-content/upl
 oads/2026/04/lauf-e1776707976253.jpg
CATEGORIES:Live-Musik
LOCATION:Riders Cafe\, Leinweberstr. 4\, Lübeck\, 23556\, Deutschland
GEO:53.8612;10.632090000000062
X-APPLE-STRUCTURED-LOCATION;VALUE=URI;X-ADDRESS=Leinweberstr. 4\, Lübeck\,
  23556\, Deutschland;X-APPLE-RADIUS=100;X-TITLE=Riders Cafe:geo:53.8612,10
 .632090000000062
END:VEVENT
BEGIN:VTIMEZONE
TZID:Europe/Berlin
X-LIC-LOCATION:Europe/Berlin
BEGIN:DAYLIGHT
DTSTART:20260329T030000
TZOFFSETFROM:+0100
TZOFFSETTO:+0200
TZNAME:CEST
END:DAYLIGHT
END:VTIMEZONE
END:VCALENDAR