BEGIN:VCALENDAR
VERSION:2.0
PRODID:-//wp-events-plugin.com//7.2.3.1//EN
BEGIN:VEVENT
UID:5750@nordostseemagazine.de
DTSTART;TZID=Europe/Berlin:20260301T180000
DTEND;TZID=Europe/Berlin:20260301T213000
DTSTAMP:20260223T091632Z
URL:https://www.nordostseemagazine.de/events/ruediger-hoffmann/
SUMMARY:Rüdiger Hoffmann
DESCRIPTION:\n\nRüdiger Hoffmann – „Andererseits…“Endli­ch geht d
 er ganz normale Wahnsinn weiter: In seinem neuen Programm „Andererseits
 “ feiert Rüdiger Hoffmann die kleinen und großen Katastrophen des Allt
 ags – lakonisch\, hintersinnig und mit diesem liebevoll-ironischen Blick
 \, bei dem das Publikum schon lacht\, bevor der Satz zu Ende ist.\n\nZwisc
 hen schamanischer Paartherapie\, Influencer-Schwieger­tochter und Heimwer
 ker-Apokalyps­e zeigt er: Was schief gehen kann\, geht schief – und das
  ist auch das Schöne daran.\n\nEntspannt\, gnadenlos\, befreiend. Comedy 
 als Kurzurlaub für die gestresste Seele
ATTACH;FMTTYPE=image/jpeg:https://www.nordostseemagazine.de/wp-content/upl
 oads/2026/02/TERMINE2025-e1771784258177.webp
CATEGORIES:Theater-Klassik
LOCATION:Stadthalle\, Kleinflecken 1\, Neumünster\, 24534\, Deutschland
GEO:54.0722679;9.98134349999998
X-APPLE-STRUCTURED-LOCATION;VALUE=URI;X-ADDRESS=Kleinflecken 1\, Neumünste
 r\, 24534\, Deutschland;X-APPLE-RADIUS=100;X-TITLE=Stadthalle:geo:54.07226
 79,9.98134349999998
END:VEVENT
BEGIN:VTIMEZONE
TZID:Europe/Berlin
X-LIC-LOCATION:Europe/Berlin
BEGIN:STANDARD
DTSTART:20251026T020000
TZOFFSETFROM:+0200
TZOFFSETTO:+0100
TZNAME:CET
END:STANDARD
END:VTIMEZONE
END:VCALENDAR