BEGIN:VCALENDAR
VERSION:2.0
PRODID:-//wp-events-plugin.com//7.2.3.1//EN
BEGIN:VEVENT
UID:5808@nordostseemagazine.de
DTSTART;TZID=Europe/Berlin:20260429T200000
DTEND;TZID=Europe/Berlin:20260429T223000
DTSTAMP:20260420T174906Z
URL:https://www.nordostseemagazine.de/events/rick-fines/
SUMMARY:Rick Fines
DESCRIPTION:\n\nDer kanadische Roots-Musik-Veteran Rick Fines blickt auf ei
 ne lange und ereignisreiche Karriere als einer der fleißigsten Musiker de
 s Landes zurück. Er tourte unzählige Male solo\, als Duo oder mit einer 
 kompletten Band durch Kanada\, hat über 14 Alben aufgenommen und war auf 
 vielen weiteren Alben als Gastmusiker zu hören. Tief in der Roots-Musik v
 erwurzelt\, kreiert Rick Fines eine einzigartige Mischung aus warmherzigem
  Blues\, Juke-Joint-Folk und Dockside-Soul\, die die Genres\, die ihn beei
 nflussen\, sowohl einbezieht als auch hinterfragt.\n\nAls Veteran der nord
 amerikanischen Blues- und Folk-Szene begeistert er sein Publikum mit fesse
 lnden Songs\, einem vielfältigen Gitarrenspiel und seinem charakteristisc
 hen rauen Gesang. Im Laufe seiner Karriere hat Rick sowohl in herausragend
 en Kollaborationen als auch als erfolgreicher Solokünstler gearbeitet. Zu
 nächst erlangte er als Teil der legendären Jackson Delta Aufmerksamkeit\
 ; seitdem hat er acht Alben veröffentlicht\, darunter eines mit seiner la
 ngjährigen Mitstreiterin Suzie Vinnick.\n\nAuf Fines’ neuester Veröffe
 ntlichung\, dem für den Juno nominierten „Solar Powered Too“\, wurde 
 der Großteil der Songs in einem kleinen Pavillon in den Wäldern von Nort
 h Kawartha mit Solarenergie aufgenommen. Wenn man genau hinhört\, kann ma
 n die Grillen und Zikaden hören.\n\nBildquelle: E. Bascianno
ATTACH;FMTTYPE=image/jpeg:https://www.nordostseemagazine.de/wp-content/upl
 oads/2026/04/artistpic_2836-e1776707305554.jpg
CATEGORIES:Live-Musik
LOCATION:Tonfink\, Große Burgstraße 46\, Lübeck\, 23552\, Deutschland
GEO:53.871904;10.690018
X-APPLE-STRUCTURED-LOCATION;VALUE=URI;X-ADDRESS=Große Burgstraße 46\, Lü
 beck\, 23552\, Deutschland;X-APPLE-RADIUS=100;X-TITLE=Tonfink:geo:53.87190
 4,10.690018
END:VEVENT
BEGIN:VTIMEZONE
TZID:Europe/Berlin
X-LIC-LOCATION:Europe/Berlin
BEGIN:DAYLIGHT
DTSTART:20260329T030000
TZOFFSETFROM:+0100
TZOFFSETTO:+0200
TZNAME:CEST
END:DAYLIGHT
END:VTIMEZONE
END:VCALENDAR