BEGIN:VCALENDAR
VERSION:2.0
PRODID:-//wp-events-plugin.com//7.2.3.1//EN
BEGIN:VEVENT
UID:5747@nordostseemagazine.de
DTSTART;TZID=Europe/Berlin:20260225T200000
DTEND;TZID=Europe/Berlin:20260225T223000
DTSTAMP:20260222T175613Z
URL:https://www.nordostseemagazine.de/events/paul-obrien/
SUMMARY:Paul O'Brien
DESCRIPTION:Paul O'Brien hat einen eklektischen Folk-Stil entwickelt\, der 
 breit gefächert ist und sich nicht so leicht kategorisieren lässt. Seine
  Erfahrungen als Einwanderer\, Musiker und Lehrer\, sein natürlicher Inst
 inkt für Humor und Geschichtenerzählen und sein Einfühlungsvermögen f
 ür die Underdogs haben ihn zu einem aufschlussreichen und unterhaltsamen 
 Künstler gemacht. Paul O'Briens Konzerte sind dynamische Angelegenheiten\
 , und seine Verbindung mit dem Publikum ist spürbar. Kein Raum ist für i
 hn zu groß oder zu klein. Innerhalb eines einzigen Liedes kann er sein Pu
 blikum von der Energie des Fußstampfens bis zur absoluten Stille der erst
 ickten Tränen mitreißen. Seine warme\, satte Stimme wurde als etwas "Bes
 onderes und Seltenes" beschrieben.\n\nPaul O'Brien wurde als Sohn irischer
  Eltern in Birmingham\, Großbritannien\, geboren\, lebt aber jetzt in Nov
 a Scotia\, Kanada\, und macht seit über 40 Jahren professionell Musik. Al
 s Singer-Songwriter und Instrumentalist ist Paul in ganz Deutschland und E
 uropa bekannt\, wo er in den letzten 12 Jahren\, seit er bei Stockfisch Re
 cords unterschrieben hat\, ständig auf Tournee war. O'Brien\, der aus ein
 er einzigartigen musikalischen Familie stammt\, ist ein Geschichtenerzähl
 er\, der sein Publikum fesselt und eine erstklassige Show liefert. Ob er n
 un originelle Lieder singt\, Geschichten erzählt oder seine keltischen Wu
 rzeln für seine atemberaubenden Bodhran-Darbietungen nutzt\, Paul verspri
 cht einen unvergesslichen Abend für alle zu liefern.\n\nFoto: Paul O'Brie
 n
ATTACH;FMTTYPE=image/jpeg:https://www.nordostseemagazine.de/wp-content/upl
 oads/2026/02/artistpic_2785.jpg
CATEGORIES:Live-Musik
LOCATION:Tonfink\, Große Burgstraße 46\, Lübeck\, 23552\, Deutschland
GEO:53.871904;10.690018
X-APPLE-STRUCTURED-LOCATION;VALUE=URI;X-ADDRESS=Große Burgstraße 46\, Lü
 beck\, 23552\, Deutschland;X-APPLE-RADIUS=100;X-TITLE=Tonfink:geo:53.87190
 4,10.690018
END:VEVENT
BEGIN:VTIMEZONE
TZID:Europe/Berlin
X-LIC-LOCATION:Europe/Berlin
BEGIN:STANDARD
DTSTART:20251026T020000
TZOFFSETFROM:+0200
TZOFFSETTO:+0100
TZNAME:CET
END:STANDARD
END:VTIMEZONE
END:VCALENDAR