BEGIN:VCALENDAR
VERSION:2.0
PRODID:-//wp-events-plugin.com//7.2.3.1//EN
BEGIN:VEVENT
UID:5809@nordostseemagazine.de
DTSTART;TZID=Europe/Berlin:20260430T200000
DTEND;TZID=Europe/Berlin:20260430T223000
DTSTAMP:20260420T175124Z
URL:https://www.nordostseemagazine.de/events/matthew-c-whitaker/
SUMMARY:Matthew C. Whitaker
DESCRIPTION:\n\nMatthew C. Whitaker ist ein in Manchester ansässiger Musik
 er und Komponist\, der vor allem für seine Arbeit mit der Cosmic-Prog-Rav
 e-Band HENGE bekannt ist\, mit der er vier hochgelobte Alben veröffentlic
 ht und ausgiebig durch Großbritannien und Europa getourt hat. Whitakers W
 elt ist die des verschrobenen Querdenkers\, der in Sachen Noir-Soundtracks
 \, Psychedelia\, Weirdfolk und gar verdrehter Songbook-Ästhetik macht –
  und sich dabei als augenzwinkernder Crooner und Psychedeliker präsentier
 t. Verrückt ist Whitaker dabei aber keineswegs – nur ein kleines bissch
 en skurril.\n\nNeben seiner energiegeladenen Arbeit mit der Band verfolgt 
 Whitaker eine eher introspektive Solokarriere. Sein Debütalbum „Man Wit
 h the Anvil Hat“ (2016) zeigte sein Gespür für komplexe Harmonien und 
 klanglich vielschichtige Klanglandschaften. Sein bevorstehendes Album „S
 ongs for the Weary“ (2026) setzt diese Erkundung mit acht sanften Stück
 en für klassische Gitarre\, üppigen Streicharrangements und subtiler Ele
 ktronik fort.\n\nBildquelle: Antony Barkworth-Knight
ATTACH;FMTTYPE=image/jpeg:https://www.nordostseemagazine.de/wp-content/upl
 oads/2026/04/artistpic_2838-e1776707455974.jpg
CATEGORIES:Live-Musik
LOCATION:Tonfink\, Große Burgstraße 46\, Lübeck\, 23552\, Deutschland
GEO:53.871904;10.690018
X-APPLE-STRUCTURED-LOCATION;VALUE=URI;X-ADDRESS=Große Burgstraße 46\, Lü
 beck\, 23552\, Deutschland;X-APPLE-RADIUS=100;X-TITLE=Tonfink:geo:53.87190
 4,10.690018
END:VEVENT
BEGIN:VTIMEZONE
TZID:Europe/Berlin
X-LIC-LOCATION:Europe/Berlin
BEGIN:DAYLIGHT
DTSTART:20260329T030000
TZOFFSETFROM:+0100
TZOFFSETTO:+0200
TZNAME:CEST
END:DAYLIGHT
END:VTIMEZONE
END:VCALENDAR