BEGIN:VCALENDAR
VERSION:2.0
PRODID:-//wp-events-plugin.com//7.2.3.1//EN
BEGIN:VEVENT
UID:5815@nordostseemagazine.de
DTSTART;TZID=Europe/Berlin:20260506T191500
DTEND;TZID=Europe/Berlin:20260506T214500
DTSTAMP:20260423T173619Z
URL:https://www.nordostseemagazine.de/events/komoedie-alte-meister/
SUMMARY:Komödie „Alte Meister”
DESCRIPTION:\n\nWitz\, Wut und Wahnsinn geben den Auftakt für den Spielpla
 n des Theaters Neumünster im Mai. Die Komödie „Alte Meister” von Tho
 mas Bernhard zeigt am Mittwoch\, dem 6. Mai\, die eigenartige Routine eine
 s grantelnden Musikkritikers und selbsternannten Kunstphilosophen. Seit ü
 ber 30 Jahren besucht er täglich das Kunsthistorische Museum in Wien\, da
  er den entscheidenden Makel in Tintorettos Bildnis finden will. Seine Met
 hode der Kunstbetrachtung: „Erst wenn wir immer wieder darauf gekommen s
 ind\, dass es das Ganze und das Vollkommene nicht gibt\, haben wir die Mö
 glichkeit des Weiterlebens. Wir halten das Ganze und das Vollkommene nicht
  aus.“ Der Museumswärter unterstützt ihn bei der Suche nach Halt in ei
 ner Welt\, die er für unzulänglich hält. Der vielfach preisgekrönte Re
 gisseur Dušan David Pařízek inszenierte die berühmte Romanvorlage für
  das Volkstheater Wien mit präziser Handschrift und feinem Gespür für d
 ie szenische Umsetzung. Da es sich um die erste Aufführung eines Werkes d
 es berühmten Autors in Neumünster handelt\, übernimmt die Präsidentin 
 der Internationalen Thomas-Bernhard-Gesellschaft die Werkeinführung um 19
 :15 Uhr im Foyer.\n\nFoto: Lukas Horky
ATTACH;FMTTYPE=image/jpeg:https://www.nordostseemagazine.de/wp-content/upl
 oads/2026/04/meister-e1776965748185.jpg
CATEGORIES:Sonstiges,Theater-Klassik
LOCATION:Stadthalle Neumünster\, Kleinflecken 1\, Neumünster\, Schleswig-
 Holstein\, 24534\, Deutschland
X-APPLE-STRUCTURED-LOCATION;VALUE=URI;X-ADDRESS=Kleinflecken 1\, Neumünste
 r\, Schleswig-Holstein\, 24534\, Deutschland;X-APPLE-RADIUS=100;X-TITLE=St
 adthalle Neumünster:geo:0,0
END:VEVENT
BEGIN:VTIMEZONE
TZID:Europe/Berlin
X-LIC-LOCATION:Europe/Berlin
BEGIN:DAYLIGHT
DTSTART:20260329T030000
TZOFFSETFROM:+0100
TZOFFSETTO:+0200
TZNAME:CEST
END:DAYLIGHT
END:VTIMEZONE
END:VCALENDAR