BEGIN:VCALENDAR
VERSION:2.0
PRODID:-//wp-events-plugin.com//7.2.3.1//EN
BEGIN:VEVENT
UID:5806@nordostseemagazine.de
DTSTART;TZID=Europe/Berlin:20260423T200000
DTEND;TZID=Europe/Berlin:20260423T230000
DTSTAMP:20260420T174345Z
URL:https://www.nordostseemagazine.de/events/kaddatz/
SUMMARY:Kaddatz
DESCRIPTION:\n\nKaddatz ist das Alter Ego des Wismarer Songwriters Matthias
  Güthner.\nKaddatze sind ganz spezielle Individuen. Sie sind angstgetrieb
 en\, verletzlich und fühlen sich nur zu oft wie eine mechanische\nSchreib
 maschine zwischen Smartphones und Tablets. Wenn ein Kaddatz dir auf seiner
  alten Gitarre ein paar Lieder vorspielt\, erinnert seine Musik an ein kna
 ckendes Vinyl auf einem in Teakholz eingefassten Plattenspieler.\nEine alt
 e Seele\, könnte man sagen. Er schreibt zynische Texte über unsere hekti
 sche Gesellschaft ohne dabei irgendwelche Lösungen anzubieten. Das ist au
 ch nicht seine Aufgabe\, denn er ist nur ein Sänger.\n\nUnd wie klingt da
 s dann fragt Ihr euch?\nNun\, Kaddatz mag Gordon Lightfoot und Nick Drake\
 , er mag South Carolina Bluegrass und Pop Country. Er würde gerne mal in 
 Nashville ein Album aufnehmen. Aber er hat Flugangst. Deshalb hat er sein 
 aktuelles Album „Hormonal Instabilities“ in Wismar aufgenommen. Da ist
  es auch schön. Und es gibt keinen Flughafen.\n__________________________
 _______\nhttps://www.marvellous-online.de/kaddatz/\nhttps://www.instagram.
 com/mr.and.mrs.marvellous/\nhttps://www.youtube.com/watch?v=7VysfTO2tXM (o
 fficial)\n\nhttps://www.youtube.com/watch?v=sDkdLDK01Tw (official)\n\n&nbs
 p\;\n\nFoto Presse Kaddatz
ATTACH;FMTTYPE=image/jpeg:https://www.nordostseemagazine.de/wp-content/upl
 oads/2026/04/artistpic_2831-e1776707002937.jpg
CATEGORIES:Live-Musik
LOCATION:Tonfink\, Große Burgstraße 46\, Lübeck\, 23552\, Deutschland
GEO:53.871904;10.690018
X-APPLE-STRUCTURED-LOCATION;VALUE=URI;X-ADDRESS=Große Burgstraße 46\, Lü
 beck\, 23552\, Deutschland;X-APPLE-RADIUS=100;X-TITLE=Tonfink:geo:53.87190
 4,10.690018
END:VEVENT
BEGIN:VTIMEZONE
TZID:Europe/Berlin
X-LIC-LOCATION:Europe/Berlin
BEGIN:DAYLIGHT
DTSTART:20260329T030000
TZOFFSETFROM:+0100
TZOFFSETTO:+0200
TZNAME:CEST
END:DAYLIGHT
END:VTIMEZONE
END:VCALENDAR