BEGIN:VCALENDAR
VERSION:2.0
PRODID:-//wp-events-plugin.com//7.2.3.1//EN
BEGIN:VEVENT
UID:5751@nordostseemagazine.de
DTSTART;TZID=Europe/Berlin:20260227T200000
DTEND;TZID=Europe/Berlin:20260227T220000
DTSTAMP:20260223T091429Z
URL:https://www.nordostseemagazine.de/events/george-michael-xperience-amaz
 ing-tour-2026/
SUMMARY:George Michael Xperience - Amazing Tour 2026
DESCRIPTION:[caption id="attachment_29869" align="alignnone" width="1000"] 
 Foto: Flaming Ege[/caption]\n\nIm Jahr 2026 dürfen sich Musikfans auf ein
  ganz besonderes Highlight freuen: George Michael Experience bringt das un
 vergessliche musikalische Erbe eines der größten Stars der Popgeschichte
  zurück auf die Bühne. Mit einer elektrisierenden Mischung aus zeitlosen
  Klassikern\, neuen Arrangements und einer spektakulären Live-Show erwart
 et das Publikum ein Konzerterlebnis\, das Herzen höherschlagen lässt.\nG
 eorge Michael war mehr als ein Weltstar – er war Stimme\, Charisma und p
 ure Emotion. Mit Songs wie Faith\, Careless Whisper oder Freedom! prägte 
 er ganze Generationen und schuf ein musikalisches Vermächtnis\, das bis h
 eute nichts von seiner Kraft verloren hat. George Michael Experience erwec
 kt diese Magie zu neuem Leben – mit herausragenden Musiker:innen\, chari
 smatischer Bühnenpräsenz und einer feinfühligen wie energiegeladenen In
 terpretation seiner größten Hits.\nDas Ensemble besteht aus außergewöh
 nlichen Künstler:innen\, die nicht nur musikalisch auf höchstem Niveau s
 pielen\, sondern auch eine tiefe Leidenschaft für die Musik von George Mi
 chael teilen – spürbar in jedem Ton. Virtuose Instrumentalisten\, beein
 druckende Vocals und detailreich gestaltete Arrangements schaffen eine Atm
 osphäre\, die das Publikum mitten in die Welt dieses einzigartigen Künst
 lers entführt. Dabei geht es nicht um bloße Imitation\, sondern um eine 
 kunstvolle\, authentische Hommage\, die den Geist einer ganzen Ära feiert
 .\nNeunzig Minuten voller Erinnerungen\, Emotionen und Gänsehaut-Momente 
 erwarten die Besuchenden. Mit kraftvollem Sound\, eindrucksvollem Lichtdes
 ign und einer Show\, die gleichermaßen intim wie spektakulär wirkt\, wir
 d jeder Abend zu einem unvergesslichen Erlebnis – zum Innehalten\, Mitsi
 ngen und tief berührt sein.\nOb für langjährige Fans von George Michael
  oder für alle\, die einen außergewöhnlichen Konzertabend erleben möch
 ten:George Michael Experience ist weit mehr als ein Revival. Es ist eine F
 eier der Musik\, eine Hommage an einen der größten Künstler unserer Zei
 t – und eine Show\, die unvergessliche Momente verspricht.\nGeorge Micha
 el Experience – eine Show\, die Legenden lebendig werden lässt.
ATTACH;FMTTYPE=image/jpeg:https://www.nordostseemagazine.de/wp-content/upl
 oads/2026/02/webp-e1771784509284.webp
CATEGORIES:Live-Musik
LOCATION:Stadttheater\, Rosenstraße 15-17\, Heide\, 25746\, Deutschland
GEO:54.1969906;9.089188799999988
X-APPLE-STRUCTURED-LOCATION;VALUE=URI;X-ADDRESS=Rosenstraße 15-17\, Heide\
 , 25746\, Deutschland;X-APPLE-RADIUS=100;X-TITLE=Stadttheater:geo:54.19699
 06,9.089188799999988
END:VEVENT
BEGIN:VTIMEZONE
TZID:Europe/Berlin
X-LIC-LOCATION:Europe/Berlin
BEGIN:STANDARD
DTSTART:20251026T020000
TZOFFSETFROM:+0200
TZOFFSETTO:+0100
TZNAME:CET
END:STANDARD
END:VTIMEZONE
END:VCALENDAR