BEGIN:VCALENDAR
VERSION:2.0
PRODID:-//wp-events-plugin.com//7.2.3.1//EN
BEGIN:VEVENT
UID:5820@nordostseemagazine.de
DTSTART;TZID=Europe/Berlin:20260527T200000
DTEND;TZID=Europe/Berlin:20260527T220000
DTSTAMP:20260423T174918Z
URL:https://www.nordostseemagazine.de/events/farm-der-tiere/
SUMMARY:Farm der Tiere
DESCRIPTION:\nMit „Farm der Tiere“ nach dem Roman von George Orwell ist
  am Mittwoch\, dem 27. Mai 2026\, ein Musiktheater über Macht\, Manipulat
 ion und den Traum von einer besseren Welt zu sehen.\nDen Tieren auf der Ma
 nor Farm reicht es. Sie schuften\, hungern und leiden\, doch ihr Bauer kü
 mmert sich nicht um sie\, sondern nur um seinen Profit. Als er eines Morge
 ns die Fütterung vergisst\, ist das Maß voll: Die Tiere erheben sich\, j
 agen ihn vom Hof und rufen eine neue\, gerechte Ordnung aus. Freiheit\, Gl
 eichheit\, Brüderlichkeit! Doch was als Utopie beginnt\, wird schnell zum
  Albtraum. Die Schweine übernehmen das Kommando\, beugen die Regeln zu ih
 ren Gunsten – und bald ist klar: Alle Tiere sind gleich\, aber manche si
 nd gleicher als andere. Orwells im Jahr 1945 veröffentlichte politische F
 abel war eine Abrechnung mit der Russischen Revolution. Das Stück ist auc
 h heute noch hochaktuell und zeigt uns\, dass Revolutionen selten so enden
 \, wie sie begonnen haben. Rebellion schlägt in Diktatur um\, und das Erw
 achen kommt zu spät.\nDie Inszenierung des Theaters für Niedersachsen se
 tzt auf Musik\, die das Geschehen mit Wucht vorantreibt – ein Soundtrack
 \, der sich dem System nicht beugt.\n\nFoto: Tim Müller
ATTACH;FMTTYPE=image/jpeg:https://www.nordostseemagazine.de/wp-content/upl
 oads/2026/04/27.05.26-Farm-der-Tiere_c_Tim-Mueller-e1776966534602.jpg
CATEGORIES:Theater-Klassik
LOCATION:Stadthalle Neumünster\, Kleinflecken 1\, Neumünster\, Schleswig-
 Holstein\, 24534\, Deutschland
X-APPLE-STRUCTURED-LOCATION;VALUE=URI;X-ADDRESS=Kleinflecken 1\, Neumünste
 r\, Schleswig-Holstein\, 24534\, Deutschland;X-APPLE-RADIUS=100;X-TITLE=St
 adthalle Neumünster:geo:0,0
END:VEVENT
BEGIN:VTIMEZONE
TZID:Europe/Berlin
X-LIC-LOCATION:Europe/Berlin
BEGIN:DAYLIGHT
DTSTART:20260329T030000
TZOFFSETFROM:+0100
TZOFFSETTO:+0200
TZNAME:CEST
END:DAYLIGHT
END:VTIMEZONE
END:VCALENDAR