BEGIN:VCALENDAR
VERSION:2.0
PRODID:-//wp-events-plugin.com//7.2.3.1//EN
BEGIN:VEVENT
UID:5816@nordostseemagazine.de
DTSTART;TZID=Europe/Berlin:20260508T200000
DTEND;TZID=Europe/Berlin:20260508T214500
DTSTAMP:20260423T173904Z
URL:https://www.nordostseemagazine.de/events/familie-floez-hokuspokus/
SUMMARY:Familie Flöz: Hokuspokus
DESCRIPTION:\n\n„Hokuspokus“ heißt die theatrale Schöpfungsgeschichte
  der renommierten Theatergruppe „Familie Flöz“\, die am Freitag\, dem
  8. Mai 2026\, mit ihrem stummen Maskenspiel zu verzaubern weiß.\n\n&nbsp
 \;\n\nFoto: Johannes Kressin
ATTACH;FMTTYPE=image/jpeg:https://www.nordostseemagazine.de/wp-content/upl
 oads/2026/04/d92899cfb7ea9d38432e0194b8cff9201ae06918.jpeg
CATEGORIES:Theater-Klassik
LOCATION:Stadthalle Neumünster\, Kleinflecken 1\, Neumünster\, Schleswig-
 Holstein\, 24534\, Deutschland
X-APPLE-STRUCTURED-LOCATION;VALUE=URI;X-ADDRESS=Kleinflecken 1\, Neumünste
 r\, Schleswig-Holstein\, 24534\, Deutschland;X-APPLE-RADIUS=100;X-TITLE=St
 adthalle Neumünster:geo:0,0
END:VEVENT
BEGIN:VTIMEZONE
TZID:Europe/Berlin
X-LIC-LOCATION:Europe/Berlin
BEGIN:DAYLIGHT
DTSTART:20260329T030000
TZOFFSETFROM:+0100
TZOFFSETTO:+0200
TZNAME:CEST
END:DAYLIGHT
END:VTIMEZONE
END:VCALENDAR