BEGIN:VCALENDAR
VERSION:2.0
PRODID:-//wp-events-plugin.com//7.2.3.1//EN
BEGIN:VEVENT
UID:5823@nordostseemagazine.de
DTSTART;TZID=Europe/Berlin:20260520T090000
DTEND;TZID=Europe/Berlin:20260520T100000
DTSTAMP:20260423T175331Z
URL:https://www.nordostseemagazine.de/events/die-werkstatt-der-schmetterli
 nge-3/
SUMMARY:Die Werkstatt der Schmetterlinge
DESCRIPTION:\n\nNach dem Kinderbuch von Gioconda Belli für Kinder ab 6 Jah
 ren\n\nEs war einmal eine Zeit\, in der die Welt noch geformt wurde. Die G
 estalterinnen und Gestalter aller Dinge erschufen Pflanzen\, Tiere und Hi
 mmelskörper – mit Sorgfalt und nach festen Regeln. Doch einer von ihnen
 \, der junge Rodolfo\, hat einen Traum\, der nicht ins System passt: Er wi
 ll ein Wesen erschaffen\, das so schön ist wie eine Blume und gleichzeiti
 g fliegen kann wie ein Vogel.\nAber das ist verboten – Pflanzen und Tier
 e dürfen nicht gemischt werden. In der Insektenwerkstatt entstehen unter 
 seinen Händen zwar Libellen und Glühwürmchen\, doch das\, was er sich a
 usmalt\, bleibt unerreichbar. Die anderen lachen über ihn\, selbst seine 
 Freundinnen zweifeln. Doch Rodolfo gibt nicht auf. Denn was wäre die Welt
  ohne Träume\, ohne Mut\, ohne Schmetterlinge?\nEine poetische Geschichte
  über die Kraft der Fantasie\, das Festhalten an eigenen Ideen und den Gl
 auben daran\, dass manchmal das Unmögliche möglich wird.\nDas Theater Mu
 mmpitz bringt diese zauberhafte Erzählung gemeinsam in Koproduktion mit d
 em Staatstheater Nürnberg auf unsere Bühne in Neumünster.
ATTACH;FMTTYPE=image/jpeg:https://www.nordostseemagazine.de/wp-content/upl
 oads/2026/04/d7633f01b40210522e7fe2c781a36cb09b507dd5.jpeg
CATEGORIES:Theater-Klassik
LOCATION:Stadthalle Neumünster\, Kleinflecken 1\, Neumünster\, Schleswig-
 Holstein\, 24534\, Deutschland
X-APPLE-STRUCTURED-LOCATION;VALUE=URI;X-ADDRESS=Kleinflecken 1\, Neumünste
 r\, Schleswig-Holstein\, 24534\, Deutschland;X-APPLE-RADIUS=100;X-TITLE=St
 adthalle Neumünster:geo:0,0
END:VEVENT
BEGIN:VTIMEZONE
TZID:Europe/Berlin
X-LIC-LOCATION:Europe/Berlin
BEGIN:DAYLIGHT
DTSTART:20260329T030000
TZOFFSETFROM:+0100
TZOFFSETTO:+0200
TZNAME:CEST
END:DAYLIGHT
END:VTIMEZONE
END:VCALENDAR