BEGIN:VCALENDAR
VERSION:2.0
PRODID:-//wp-events-plugin.com//7.2.3.1//EN
BEGIN:VEVENT
UID:5802@nordostseemagazine.de
DTSTART;TZID=Europe/Berlin:20260419T190000
DTEND;TZID=Europe/Berlin:20260419T220000
DTSTAMP:20260413T133329Z
URL:https://www.nordostseemagazine.de/events/clara-maria-groppler-mehrjung
 frau-tour-2026/
SUMMARY:Clara Maria Groppler „Mehrjungfrau“ Tour 2026
DESCRIPTION:\n\n\n\n\n\nMaria Clara Groppler gehört zweifellos zu den aufr
 egendsten und vielseitigsten Stand-up-Comedians der deutschen Comedy-Szene
 . Ihr unschuldiges Aussehen und charmantes Auftreten lassen sie wie das M
 ädchen von nebenan wirken – doch der Eindruck täuscht: Ihr Humor ist g
 enauso derb wie gnadenlos ehrlich.\n\nNach dem durchschlagenden Erfolg ihr
 es ersten Live-Programms „Jungfrau“ tourt Maria nun mit ihrem neuen Pr
 ogramm „Mehrjungfrau“ – der einzige logische Nachfolger!\n\nIn „Me
 hrjungfrau“ beleuchtet Maria die Probleme der modernen Meerjungfrau im 2
 1. Jahrhundert:\n\n⁠ ⁠„Auf welche Toilette gehen Mehrjungfrau eigent
 lich? Einerseits sind sie ja Frauen\, andererseits… nun ja\, ist da dies
 er Schwanz.“\n⁠ ⁠„Bekommen Mehrjungfrauen eigentlich ihre Periode?
  Und wenn ja\, wie machen die das dann mit den Haien?\n⁠ ⁠„Und wenn 
 sich eine Mehrjungfrau etwas eingefangen hat – geht sie dann zum Tierarz
 t oder Frauenarzt?\nNeben diesen wichtigen Themen spricht Maria auch über
  andere Themen aus ihrem Leben: den Sexualkundeunterricht in der Schule da
 mals\, Yoga und Spiritualität\, ihre rassistische Oma\, ihre Erfahrungen 
 bei Let’s Dance\, ihre Beziehung und vieles mehr.\n\nFreut euch auf 90 M
 inuten Unterhaltung – tabulos\, scharfsinnig\, manchmal albern\, aber ha
 uptsächlich eins: lustig. Findet vor allem Maria.\n\n\n\n\n
ATTACH;FMTTYPE=image/jpeg:https://www.nordostseemagazine.de/wp-content/upl
 oads/2026/04/maria.jpg
CATEGORIES:Live-Musik
LOCATION:Riders Cafe\, Leinweberstr. 4\, Lübeck\, 23556\, Deutschland
GEO:53.8612;10.632090000000062
X-APPLE-STRUCTURED-LOCATION;VALUE=URI;X-ADDRESS=Leinweberstr. 4\, Lübeck\,
  23556\, Deutschland;X-APPLE-RADIUS=100;X-TITLE=Riders Cafe:geo:53.8612,10
 .632090000000062
END:VEVENT
BEGIN:VTIMEZONE
TZID:Europe/Berlin
X-LIC-LOCATION:Europe/Berlin
BEGIN:DAYLIGHT
DTSTART:20260329T030000
TZOFFSETFROM:+0100
TZOFFSETTO:+0200
TZNAME:CEST
END:DAYLIGHT
END:VTIMEZONE
END:VCALENDAR