BEGIN:VCALENDAR
VERSION:2.0
PRODID:-//wp-events-plugin.com//7.2.3.1//EN
BEGIN:VEVENT
UID:5814@nordostseemagazine.de
DTSTART;TZID=Europe/Berlin:20260508T200000
DTEND;TZID=Europe/Berlin:20260508T230000
DTSTAMP:20260420T180517Z
URL:https://www.nordostseemagazine.de/events/child-in-time-deep-purple-tri
 bute/
SUMMARY:CHILD IN TIME Deep Purple Tribute
DESCRIPTION:\n\nCHILD IN TIME – Deep Purple Cover aus Kiel\nGillan\, Blac
 kmore\, Paice &amp\; Co. sie haben Rockgeschichte geschrieben. Fünf Jahrz
 ehnte lang.\n\nSeit 2005 schreiben wir sie neu\, aber noch nie in besserer
  Besetzung als jetzt. Ganz nah am Original\, aber mit unserem eigenen Stil
 . Unverwechselbar\, einprägsam\, filigran. Mit neuem Drive für alte Hits
 . Fünf spielerfahrene Instrumentalisten\, eine Mission:\nDas ultimative R
 ock- Liveerlebnis mit den charakteristischen Gesangs-Exstasen\, den legend
 ären Funkenflügen zwischen Gitarre und Orgel\, Groove und Energie …von
  Japan nach Kiel!\nCHILD IN TIME – Deep Purple Cover aus der Hafenstadt 
 Kiel.\n\nCOME TASTE THE BAND!
ATTACH;FMTTYPE=image/jpeg:https://www.nordostseemagazine.de/wp-content/upl
 oads/2026/04/Child_In_Time_Bild_Logo.jpg
CATEGORIES:Live-Musik
LOCATION:Riders Cafe\, Leinweberstr. 4\, Lübeck\, 23556\, Deutschland
GEO:53.8612;10.632090000000062
X-APPLE-STRUCTURED-LOCATION;VALUE=URI;X-ADDRESS=Leinweberstr. 4\, Lübeck\,
  23556\, Deutschland;X-APPLE-RADIUS=100;X-TITLE=Riders Cafe:geo:53.8612,10
 .632090000000062
END:VEVENT
BEGIN:VTIMEZONE
TZID:Europe/Berlin
X-LIC-LOCATION:Europe/Berlin
BEGIN:DAYLIGHT
DTSTART:20260329T030000
TZOFFSETFROM:+0100
TZOFFSETTO:+0200
TZNAME:CEST
END:DAYLIGHT
END:VTIMEZONE
END:VCALENDAR