BEGIN:VCALENDAR
VERSION:2.0
PRODID:-//wp-events-plugin.com//7.2.3.1//EN
BEGIN:VEVENT
UID:5805@nordostseemagazine.de
DTSTART;TZID=Europe/Berlin:20260422T200000
DTEND;TZID=Europe/Berlin:20260422T223000
DTSTAMP:20260420T174120Z
URL:https://www.nordostseemagazine.de/events/bram-van-langen/
SUMMARY:Bram van Langen
DESCRIPTION:\n\nDer niederländische Songwriter und Multiinstrumentalist Br
 am van Langen sucht abseits der Bühne nach ruhigen\, stillen Orten\, um s
 eine Gedanken zu ordnen und dem Druck unserer lauten\, modernen Welt zu en
 tfliehen.\nBram ist ein Denker\, der für kleinste Gesten und Momente empf
 änglich ist – in seiner Musik drückt sich dies in sorgfältig abgewoge
 nen Noten und Worten aus\, die ebenso sehr nach Klang und Rhythmus wie nac
 h ihrer Bedeutung ausgewählt wurden\, sowie in warmen\, bezaubernden Harm
 onien.\n\nFoto Presse Bram van Langen
ATTACH;FMTTYPE=image/jpeg:https://www.nordostseemagazine.de/wp-content/upl
 oads/2026/04/artistpic_2830-e1776706858760.jpg
CATEGORIES:Live-Musik
LOCATION:Tonfink\, Große Burgstraße 46\, Lübeck\, 23552\, Deutschland
GEO:53.871904;10.690018
X-APPLE-STRUCTURED-LOCATION;VALUE=URI;X-ADDRESS=Große Burgstraße 46\, Lü
 beck\, 23552\, Deutschland;X-APPLE-RADIUS=100;X-TITLE=Tonfink:geo:53.87190
 4,10.690018
END:VEVENT
BEGIN:VTIMEZONE
TZID:Europe/Berlin
X-LIC-LOCATION:Europe/Berlin
BEGIN:DAYLIGHT
DTSTART:20260329T030000
TZOFFSETFROM:+0100
TZOFFSETTO:+0200
TZNAME:CEST
END:DAYLIGHT
END:VTIMEZONE
END:VCALENDAR