BEGIN:VCALENDAR
VERSION:2.0
PRODID:-//wp-events-plugin.com//7.2.3.1//EN
BEGIN:VEVENT
UID:5810@nordostseemagazine.de
DTSTART;TZID=Europe/Berlin:20260504T200000
DTEND;TZID=Europe/Berlin:20260504T223000
DTSTAMP:20260420T175346Z
URL:https://www.nordostseemagazine.de/events/bob-sumner/
SUMMARY:Bob Sumner
DESCRIPTION:\n\nDer Singer-Songwriter Bob Sumner verweist auf die musikalis
 ch progressive Sensibilität seiner Vorbilder\, wenn er über den Geist se
 ines neuen Albums „Some Place to Rest Easy“ spricht\, das jetzt weltwe
 it bei Fluff &amp\; Gravy und in Kanada bei North Country Collective ersch
 ienen ist. „Sie haben immer etwas Neues\, etwas Anderes geschaffen“\, 
 sagt er über Idole wie George Jones\, Willie Nelson und Waylon Jennings. 
 Mit dieser Ideologie im Hinterkopf machte sich Sumner daran\, ein Album zu
  schaffen\, das ebenso viel Inspiration aus der Klangproduktion von Randy 
 Travis wie aus der lyrischen Seele von Adrianne Lenker von Big Thief schö
 pft – eine Verschmelzung von Epochen\, Klängen\, Konzepten und Stilen\,
  die von der Vergangenheit geprägt\, aber niemals an sie gebunden ist.\n\
 nMit „Some Place to Rest Easy“ legt Sumner im Vergleich zu seinen frü
 heren Veröffentlichungen ein höheres Tempo vor und schafft einen Ausglei
 ch zwischen der bewegenden lyrischen Tiefe\, die seine Fans gewohnt sind\,
  und einem beschwingteren\, lebhafteren Gefühl. „Es fühlte sich richti
 g an\, der Musik selbst etwas Freude zu geben“\, sagt der Mann\, der es 
 sich zur Aufgabe gemacht hat\, schwer fassbare Themen des realen Lebens au
 f eine nachvollziehbare\, zugängliche Weise anzusprechen. Letztendlich is
 t es genau das\, worum es in Sumners Musik schon immer ging – um mehr al
 s nur einen einzelnen Sound\, einen Einfluss\, ein Instrument oder eine cl
 evere Zeile. „Ich möchte immer\, dass die Menschen etwas fühlen“\, e
 rklärt Sumner. „Wenn ich hören würde\, dass dieses Album jemandem geh
 olfen hat\, der niedergeschlagen war\, und sei es auch nur\, indem er für
  eine kurze Zeit eine andere Emotion verspürt hat\, dann ist das für mic
 h das Wichtigste.“\n\nFoto Presse Bob Sumner
ATTACH;FMTTYPE=image/jpeg:https://www.nordostseemagazine.de/wp-content/upl
 oads/2026/04/artistpic_2841-e1776707581921.jpeg
CATEGORIES:Live-Musik
LOCATION:Tonfink\, Große Burgstraße 46\, Lübeck\, 23552\, Deutschland
GEO:53.871904;10.690018
X-APPLE-STRUCTURED-LOCATION;VALUE=URI;X-ADDRESS=Große Burgstraße 46\, Lü
 beck\, 23552\, Deutschland;X-APPLE-RADIUS=100;X-TITLE=Tonfink:geo:53.87190
 4,10.690018
END:VEVENT
BEGIN:VTIMEZONE
TZID:Europe/Berlin
X-LIC-LOCATION:Europe/Berlin
BEGIN:DAYLIGHT
DTSTART:20260329T030000
TZOFFSETFROM:+0100
TZOFFSETTO:+0200
TZNAME:CEST
END:DAYLIGHT
END:VTIMEZONE
END:VCALENDAR