BEGIN:VCALENDAR
VERSION:2.0
PRODID:-//wp-events-plugin.com//7.2.3.1//EN
BEGIN:VEVENT
UID:5801@nordostseemagazine.de
DTSTART;TZID=Europe/Berlin:20260421T200000
DTEND;TZID=Europe/Berlin:20260421T223000
DTSTAMP:20260413T133014Z
URL:https://www.nordostseemagazine.de/events/bjarne/
SUMMARY:Bjarne
DESCRIPTION:[caption id="attachment_30027" align="alignnone" width="1200"] 
 Foto: Presse BJARNE[/caption]\n\nBJARNEs Musik ist ruhig und rau und kreis
 t dabei auf verschiedenen melodischen und rhythmischen Bahnen um den sensi
 blen Text. Dadurch entsteht seine ganz eigene Art von Musik\, die sich irg
 endwo zwischen unabhängigem Folk\, stampfendem Blues\, der traditionellen
  „Singer-Songwriterei“ und immer wieder neuen Inspirationen einordnen 
 lässt. Seine ursprüngliche Art von Musik präsentiert BJARNE live mit St
 imme\, Gitarre\, Klavier\, Loops und seinem nicht aufhörenden\, stampfend
 en Fuß.\n\nBjarne baut Burgen im Sand\, kleine Tempel: seine Spuren. Der 
 Wind\, das Meer\, die Zeit\, die Menschen\, alles\, was ihn dabei umgibt\,
  stützt und stört\, wird verpackt in Songs: seine Findlinge. Überall\, 
 wo Bjarne für sich und seine Musik einen Platz findet\, werden diese gro
 ßen und kleinen Steine in unterschiedlichsten Formationen in den Raum ges
 tellt.
ATTACH;FMTTYPE=image/jpeg:https://www.nordostseemagazine.de/wp-content/upl
 oads/2026/04/bjarne.jpeg
CATEGORIES:Live-Musik
LOCATION:Tonfink\, Große Burgstraße 46\, Lübeck\, 23552\, Deutschland
GEO:53.871904;10.690018
X-APPLE-STRUCTURED-LOCATION;VALUE=URI;X-ADDRESS=Große Burgstraße 46\, Lü
 beck\, 23552\, Deutschland;X-APPLE-RADIUS=100;X-TITLE=Tonfink:geo:53.87190
 4,10.690018
END:VEVENT
BEGIN:VTIMEZONE
TZID:Europe/Berlin
X-LIC-LOCATION:Europe/Berlin
BEGIN:DAYLIGHT
DTSTART:20260329T030000
TZOFFSETFROM:+0100
TZOFFSETTO:+0200
TZNAME:CEST
END:DAYLIGHT
END:VTIMEZONE
END:VCALENDAR