BEGIN:VCALENDAR
VERSION:2.0
PRODID:-//wp-events-plugin.com//7.2.3.1//EN
BEGIN:VEVENT
UID:5811@nordostseemagazine.de
DTSTART;TZID=Europe/Berlin:20260425T200000
DTEND;TZID=Europe/Berlin:20260425T230000
DTSTAMP:20260420T175725Z
URL:https://www.nordostseemagazine.de/events/another-nameless-ghost/
SUMMARY:Another Nameless Ghost
DESCRIPTION:\n\nDie schwedische Okkult-Rock-Band GHOST um ihren Schöpfer u
 nd Songwriter- Mastermind „Tobias Forge“- gilt derzeitig als eines der
  innovativsten Rock Band Phänomene der letzten Jahre.\nDie GHOST Tribute-
 Band ANOTHER NAMELESS GHOST ist seit 2016 nicht nur die erste hier zu Land
 e\, sondern auch mittlerweile eine der bekanntesten weltweit. Sie hat es s
 ich zur Aufgabe gemacht\, die Musik und Performance von Ghost möglichst a
 uthentisch und originalgetreu nachzuempfinden.\nDabei sehen ANOTHER NAMLES
 S GHOST ihr Tribute an GHOST nicht nur als Hommage an die Originalband\, s
 ondern auch als Mission.\nEin besonderes Merkmal von ANOTHER NAMELESS GHOS
 T sind ihre zum Verwechseln ähnlichen Masken\, die den Mitgliedern von GH
 OST nachempfunden sind\, sowie den zum Teil originalgetreuen Kostüm- Repl
 ikas\, die ihre Performance noch authentischer wirken lassen. Dabei belebe
 n sie auch auf Wunsch die Protagonisten vergangener Alben wieder und ermö
 glichen so in bis zu 120 Minuten ihrer mitreißenden Show die Atmosphäre 
 einer echten GHOST Show live zu erleben.\nANOTHER NAMELESS GHOST ist ein a
 bsolutes Muss für Fans.\n\nFoto: AndreasHartling@Mandographie
ATTACH;FMTTYPE=image/jpeg:https://www.nordostseemagazine.de/wp-content/upl
 oads/2026/04/Another.jpg
CATEGORIES:Live-Musik
LOCATION:Riders Cafe\, Leinweberstr. 4\, Lübeck\, 23556\, Deutschland
GEO:53.8612;10.632090000000062
X-APPLE-STRUCTURED-LOCATION;VALUE=URI;X-ADDRESS=Leinweberstr. 4\, Lübeck\,
  23556\, Deutschland;X-APPLE-RADIUS=100;X-TITLE=Riders Cafe:geo:53.8612,10
 .632090000000062
END:VEVENT
BEGIN:VTIMEZONE
TZID:Europe/Berlin
X-LIC-LOCATION:Europe/Berlin
BEGIN:DAYLIGHT
DTSTART:20260329T030000
TZOFFSETFROM:+0100
TZOFFSETTO:+0200
TZNAME:CEST
END:DAYLIGHT
END:VTIMEZONE
END:VCALENDAR