BEGIN:VCALENDAR
VERSION:2.0
PRODID:-//wp-events-plugin.com//7.2.3.1//EN
BEGIN:VEVENT
UID:5749@nordostseemagazine.de
DTSTART;TZID=Europe/Berlin:20260301T180000
DTEND;TZID=Europe/Berlin:20260301T220000
DTSTAMP:20260223T091559Z
URL:https://www.nordostseemagazine.de/events/alte-bekannte-mehr-live/
SUMMARY:Alte Bekannte Mehr! - Live
DESCRIPTION:\n\nAlte Bekannte wollen mehr: Mehr neue Songs und mehr tolle K
 onzertabende mit noch mehr glücklichen Konzertbesucher:innen. Kurz „Meh
 r! - Live“.\n\nAb 2025 präsentieren Alte Bekannte ihr bereits fünftes 
 Bühnenprogramm (in sieben Jahren). Die „Wise Guys-Nachfolger“ zeigen 
 erneut\, warum sie aus der deutschen Musikszene längst nicht mehr wegzude
 nkenden sind: musikalisch wie textlich hervorragende Songs und ausgesproch
 en unterhaltsame Moderationen garantieren etwas\, das man in diesen Tagen 
 gar nicht mehr so einfach bekommt: Richtig gute Laune!\n\nTeil des Program
 ms sind neben brandneuen Songs auch wieder einige Hits ihrer früheren Alb
 en sowie handverlesene „unkaputtbare“ Lieder ihrer Vorgängerband: wit
 zig\, nachdenklich und häufig äußerst tanzbar. Ein Abend\, der noch lan
 ge nachklingt und nur ein Gefühl erzeugt: „Mehr! - Live“..\n\nVeranst
 alter: MM Konzerte GmbH\, Frankfurter Straße 92\, 34121 Kassel\n\nKarten 
 gibt es im Vorverkauf ab 34\,45 €\, ermäßigt ab 19\,60 € inkl. Vvk-G
 ebühren bei tips&amp\;TICKETS\, bei allen bekannten Vorverkaufsstellen un
 d bei eventim.\n\nCopyright: Kay-Uwe Fischer/Info Wolfgarten
ATTACH;FMTTYPE=image/jpeg:https://www.nordostseemagazine.de/wp-content/upl
 oads/2026/02/bekannte-e1771783389270.webp
CATEGORIES:Live-Musik
LOCATION:MUK\, Willy-Brandt-Allee 10\, Lübeck\, 23554\, Deutschland
GEO:53.86903239999999;10.677770099999975
X-APPLE-STRUCTURED-LOCATION;VALUE=URI;X-ADDRESS=Willy-Brandt-Allee 10\, Lü
 beck\, 23554\, Deutschland;X-APPLE-RADIUS=100;X-TITLE=MUK:geo:53.869032399
 99999,10.677770099999975
END:VEVENT
BEGIN:VTIMEZONE
TZID:Europe/Berlin
X-LIC-LOCATION:Europe/Berlin
BEGIN:STANDARD
DTSTART:20251026T020000
TZOFFSETFROM:+0200
TZOFFSETTO:+0100
TZNAME:CET
END:STANDARD
END:VTIMEZONE
END:VCALENDAR