BEGIN:VCALENDAR
VERSION:2.0
PRODID:-//wp-events-plugin.com//7.2.3.1//EN
BEGIN:VEVENT
UID:5807@nordostseemagazine.de
DTSTART;TZID=Europe/Berlin:20260425T200000
DTEND;TZID=Europe/Berlin:20260425T223000
DTSTAMP:20260420T174612Z
URL:https://www.nordostseemagazine.de/events/agata-kaczewska/
SUMMARY:Agata Kaczewska
DESCRIPTION:\n\nAgata Karczewska /Kar-chef-ska/\, eine Singer-Songwriterin 
 aus Warschau\, Polen\, verbindet Einflüsse aus amerikanischem Folk und Co
 untry zu einem Stil\, der rau\, warm und zutiefst persönlich wirkt. Als A
 utodidaktin\, inspiriert von Künstlern wie Elliott Smith und Bob Dylan\, 
 schreibt sie Songs\, die authentische Geschichten erzählen\, und verbinde
 t dabei ihre kraftvolle\, unverwechselbare Stimme mit dem warmen Klang ein
 er Akustikgitarre.\n\n2017 erschien ihr eigenes Material\, in dem Agata ü
 ber Sünde\, Sensibilität und Einsamkeit singt\, auf ihrer Debüt-EP „Y
 ou're Not So Special“. Ihr erstes Album „I’m Not Good at Having Fun
 “ kam 2019 heraus und öffnete ihr die Türen zu großen Festivals wie O
 pen’er\, Pol'and'Rock und Way Out West in Schweden.\n2020 wurde Agata f
 ür einen Fryderyk-Award\, Polens Version des Grammy\, nominiert und gewan
 n den Mateusz-Award des renommierten Radiosenders Trójka für vielverspre
 chende Nachwuchskünstler. Im Januar 2020 gewann sie den Wettbewerb „Bes
 t Song of the Month“ von Songwriter Universe für ihren Song „Fool“.
 \n2022 tat sie sich mit dem englischen Songwriter John Porter zusammen\, u
 m den Song „No Way to Say Goodbye“ zu schreiben\, und aus dieser Zusam
 menarbeit entstand das Album „On the Wrong Planet“\, das 2023 erschien
 . Das Album brachte ihnen 2024 einen Fryderyk-Award ein.\nIm Dezember 2024
  veröffentlichte sie die neue EP „Not My First Rodeo“\, auf der sie e
 rneut ihre erzählerische Art und ihre ehrlichen Texte unter Beweis stellt
 .\nAgatas Musik zeichnet sich durch herzliche Texte\, echte Emotionen und 
 einen Stil aus\, der ganz und gar ihr eigener ist.\n\nBildquelle: Oskar Sz
 ramka
ATTACH;FMTTYPE=image/jpeg:https://www.nordostseemagazine.de/wp-content/upl
 oads/2026/04/artistpic_2833-e1776707152826.jpg
CATEGORIES:Live-Musik
LOCATION:Tonfink\, Große Burgstraße 46\, Lübeck\, 23552\, Deutschland
GEO:53.871904;10.690018
X-APPLE-STRUCTURED-LOCATION;VALUE=URI;X-ADDRESS=Große Burgstraße 46\, Lü
 beck\, 23552\, Deutschland;X-APPLE-RADIUS=100;X-TITLE=Tonfink:geo:53.87190
 4,10.690018
END:VEVENT
BEGIN:VTIMEZONE
TZID:Europe/Berlin
X-LIC-LOCATION:Europe/Berlin
BEGIN:DAYLIGHT
DTSTART:20260329T030000
TZOFFSETFROM:+0100
TZOFFSETTO:+0200
TZNAME:CEST
END:DAYLIGHT
END:VTIMEZONE
END:VCALENDAR